BEGIN:VCALENDAR
PRODID:-//eluceo/ical//2.0/EN
VERSION:2.0
CALSCALE:GREGORIAN
BEGIN:VEVENT
UID:c7cbda816c835248dde9bf0b8a65bcbd
DTSTAMP:20260423T042046Z
SUMMARY:Martin J. Gottlieb Day School  K-5 Back to School Night
DESCRIPTION:Jewish Federation & Foundation of Northeast Florida\nCommunity 
 Calendar\nhttps://jewishjacksonville.org/jewish-federation-of-jacksonville
 -calendar/martin-j-gottlieb-day-school-k-5-back-to-school-night\n\nK-5 Bac
 k to School night
DTSTART;TZID=America/New_York:20160915T194500
DTEND;TZID=America/New_York:20160915T203000
END:VEVENT
END:VCALENDAR
