BEGIN:VCALENDAR
PRODID:-//eluceo/ical//2.0/EN
VERSION:2.0
CALSCALE:GREGORIAN
BEGIN:VEVENT
UID:a5f8f1b4cc0d313337d56e1ee3f383d1
DTSTAMP:20260420T213638Z
SUMMARY:Martin J. Gottlieb Day School 8th Grade Graduation 7:15 p.m.
DESCRIPTION:Jewish Federation & Foundation of Northeast Florida\nCommunity 
 Calendar\nhttps://jewishjacksonville.org/jewish-federation-of-jacksonville
 -calendar/martin-j-gottlieb-day-school-8th-grade-graduation-7-15\n\nMartin
  J. Gottlieb Day School 8th Grade Graduation\n\nMay 31st 7:15 p.m.
DTSTART;TZID=America/New_York:20230531T000000
DTEND;TZID=America/New_York:20230531T235959
END:VEVENT
END:VCALENDAR
