BEGIN:VCALENDAR
PRODID:-//eluceo/ical//2.0/EN
VERSION:2.0
CALSCALE:GREGORIAN
BEGIN:VEVENT
UID:cc848abecb6648d1bdcd7b72290efae0
DTSTAMP:20260420T173621Z
SUMMARY:9:00 AM Shalom Jax Jewish Java
DESCRIPTION:Jewish Federation & Foundation of Northeast Florida\nCommunity 
 Calendar\nhttps://jewishjacksonville.org/jewish-federation-of-jacksonville
 -calendar/march-jewish-java\n\nFederation and Shalom Jacksonville's Jewish
  Java program will be held at River Garden. More details to follow.
DTSTART;TZID=America/New_York:20190306T090000
DTEND;TZID=America/New_York:20190306T110000
END:VEVENT
END:VCALENDAR
