BEGIN:VCALENDAR
PRODID:-//eluceo/ical//2.0/EN
VERSION:2.0
CALSCALE:GREGORIAN
BEGIN:VEVENT
UID:79ed0b6befc25212b8b11213ec7260da
DTSTAMP:20260420T174233Z
SUMMARY:10:00 a.m. Federation Women's Division Steering Committee Meeting
DESCRIPTION:Jewish Federation & Foundation of Northeast Florida\nCommunity 
 Calendar\nhttps://jewishjacksonville.org/jewish-federation-of-jacksonville
 -calendar/mar-federation-womens-division-steering-committee-meeting\n\nFed
 eration Women's Division Steering Committee Meeting\n\nMarch 23\, 2020\n\n
 10:00 a.m. - 11:00 a.m.
DTSTART;TZID=America/New_York:20200323T100000
DTEND;TZID=America/New_York:20200323T110000
END:VEVENT
END:VCALENDAR
