BEGIN:VCALENDAR
PRODID:-//eluceo/ical//2.0/EN
VERSION:2.0
CALSCALE:GREGORIAN
BEGIN:VEVENT
UID:1797ad42574552a58ec239926102a0e4
DTSTAMP:20260424T203341Z
SUMMARY:MAKOM HEBREW HIGH SCHOOL SIYYUM GRADUATION JJC
DESCRIPTION:Jewish Federation & Foundation of Northeast Florida\nCommunity 
 Calendar\nhttps://jewishjacksonville.org/jewish-federation-of-jacksonville
 -calendar/makom-hebrew-high-school-siyyum-graduation-jjc\n\nMAKOM HEBREW H
 IGH SCHOOL SIYYUM GRADUATION JJC
DTSTART;TZID=America/New_York:20130518T000000
DTEND;TZID=America/New_York:20130518T235900
END:VEVENT
END:VCALENDAR
