BEGIN:VCALENDAR
PRODID:-//eluceo/ical//2.0/EN
VERSION:2.0
CALSCALE:GREGORIAN
BEGIN:VEVENT
UID:f5e5d6ac8da595d00f57fe2bb5ba3e03
DTSTAMP:20260424T032848Z
SUMMARY:9:45 AM Congregation Ahavath Chesed Learn to Read Hebrew with Gonen
  Arad
DESCRIPTION:Jewish Federation & Foundation of Northeast Florida\nCommunity 
 Calendar\nhttps://jewishjacksonville.org/jewish-federation-of-jacksonville
 -calendar/learn-to-read-hebrew-with-gonen-arad\n\nNew Students Always Welc
 ome\nTemple Members: $50\nNon-Members: $85\n\n \n\nIn-person only
DTSTART;TZID=America/New_York:20220104T094500
DTEND;TZID=America/New_York:20220104T103000
END:VEVENT
END:VCALENDAR
