BEGIN:VCALENDAR
PRODID:-//eluceo/ical//2.0/EN
VERSION:2.0
CALSCALE:GREGORIAN
BEGIN:VEVENT
UID:7b5dd9b2c0abddfb17cda6c9dd8d4013
DTSTAMP:20260420T125751Z
SUMMARY:Latkas & Vodkas
DESCRIPTION:Jewish Federation & Foundation of Northeast Florida\nCommunity 
 Calendar\nhttps://jewishjacksonville.org/jewish-federation-of-jacksonville
 -calendar/latkas-vodkas\n\nThe Jacksonville Jewish Center is hosting their
  Annual Latkes & Vodkas - Hanukkah Fundraiser. Drinks\, food \, raffle pri
 zes and more!
DTSTART;TZID=America/New_York:20231209T200000
DTEND;TZID=America/New_York:20231209T220000
END:VEVENT
END:VCALENDAR
