BEGIN:VCALENDAR
PRODID:-//eluceo/ical//2.0/EN
VERSION:2.0
CALSCALE:GREGORIAN
BEGIN:VEVENT
UID:c9133a71aa00ba522161cdc139e05deb
DTSTAMP:20260425T222328Z
SUMMARY:Lag B'Omer 5779
DESCRIPTION:Jewish Federation & Foundation of Northeast Florida\nCommunity 
 Calendar\nhttps://jewishjacksonville.org/jewish-federation-of-jacksonville
 -calendar/lag-bomer-5779\n\nLag BaOmer\, the 33rd day of the Omer cou
 nt—this year\, May 26\, 2016—is a festive day on the Jewish calendar.
  It is celebrated with outings (on which the children traditionally play w
 ith bows and arrows)\, bonfires\, and other joyous events. 
DTSTART;TZID=America/New_York:20190523T000000
DTEND;TZID=America/New_York:20190523T235900
END:VEVENT
END:VCALENDAR
