BEGIN:VCALENDAR
PRODID:-//eluceo/ical//2.0/EN
VERSION:2.0
CALSCALE:GREGORIAN
BEGIN:VEVENT
UID:7fc1cd029651ec055d0a78ec2cbf49db
DTSTAMP:20260421T030907Z
SUMMARY:11AM JCA Memorial Day Family Fun Day
DESCRIPTION:Jewish Federation & Foundation of Northeast Florida\nCommunity 
 Calendar\nhttps://jewishjacksonville.org/jewish-federation-of-jacksonville
 -calendar/labor-day-family-fun-day-5-27-19\n\nVisit our site to learn more
 !
DTSTART;TZID=America/New_York:20190527T110000
DTEND;TZID=America/New_York:20190527T150000
END:VEVENT
END:VCALENDAR
