BEGIN:VCALENDAR
PRODID:-//eluceo/ical//2.0/EN
VERSION:2.0
CALSCALE:GREGORIAN
BEGIN:VEVENT
UID:45eb99bbbc8e2aa8d8e00064fc222b09
DTSTAMP:20260422T181307Z
SUMMARY:Center Book Club June Meeting
DESCRIPTION:Jewish Federation & Foundation of Northeast Florida\nCommunity 
 Calendar\nhttps://jewishjacksonville.org/jewish-federation-of-jacksonville
 -calendar/june-center-book-club-meeting\n\nJoin the Center Book Club for a
  reading experience and Q&A with the author\, Sam Quinones\, by Skype.\n
DTSTART;TZID=America/New_York:20180619T190000
DTEND;TZID=America/New_York:20180619T210000
END:VEVENT
END:VCALENDAR
