BEGIN:VCALENDAR
PRODID:-//eluceo/ical//2.0/EN
VERSION:2.0
CALSCALE:GREGORIAN
BEGIN:VEVENT
UID:794319ff29cee02b14884a33002a6003
DTSTAMP:20260424T185515Z
SUMMARY:Jonathon Mooney\, Speaker
DESCRIPTION:Jewish Federation & Foundation of Northeast Florida\nCommunity 
 Calendar\nhttps://jewishjacksonville.org/jewish-federation-of-jacksonville
 -calendar/jonathon-mooney-speaker\n\nFor more information\, please contact
  Cindy Land. 904-394-5760
DTSTART;TZID=America/New_York:20150218T190000
DTEND;TZID=America/New_York:20150218T200000
END:VEVENT
END:VCALENDAR
