BEGIN:VCALENDAR
PRODID:-//eluceo/ical//2.0/EN
VERSION:2.0
CALSCALE:GREGORIAN
BEGIN:VEVENT
UID:9f373f2167a36873799df297b34d39b9
DTSTAMP:20260425T163729Z
SUMMARY:5:30PM JJC Consecration
DESCRIPTION:Jewish Federation & Foundation of Northeast Florida\nCommunity 
 Calendar\nhttps://jewishjacksonville.org/jewish-federation-of-jacksonville
 -calendar/jjc-consecration\n\nBernard & Alice Selevan Religious School Con
 secration
DTSTART;TZID=America/New_York:20150515T173000
DTEND;TZID=America/New_York:20150515T190000
END:VEVENT
END:VCALENDAR
