BEGIN:VCALENDAR
PRODID:-//eluceo/ical//2.0/EN
VERSION:2.0
CALSCALE:GREGORIAN
BEGIN:VEVENT
UID:efdc0622fb406b551c2363104fa10e07
DTSTAMP:20260423T023757Z
SUMMARY:JJC Bat Mitzvah
DESCRIPTION:Jewish Federation & Foundation of Northeast Florida\nCommunity 
 Calendar\nhttps://jewishjacksonville.org/jewish-federation-of-jacksonville
 -calendar/jjc-bat-mitzvah4\n\nJJC Bat Mitzvah
DTSTART;TZID=America/New_York:20160910T113500
DTEND;TZID=America/New_York:20160910T235959
END:VEVENT
END:VCALENDAR
