BEGIN:VCALENDAR
PRODID:-//eluceo/ical//2.0/EN
VERSION:2.0
CALSCALE:GREGORIAN
BEGIN:VEVENT
UID:98b944461fbe563adef5930a35e517cd
DTSTAMP:20260423T072329Z
SUMMARY:JJC Bar Mitzvah
DESCRIPTION:Jewish Federation & Foundation of Northeast Florida\nCommunity 
 Calendar\nhttps://jewishjacksonville.org/jewish-federation-of-jacksonville
 -calendar/jjc-bar-mitzvah\n\nJJC Bar Mitzvah
DTSTART;TZID=America/New_York:20160903T080000
DTEND;TZID=America/New_York:20160903T235959
END:VEVENT
END:VCALENDAR
