BEGIN:VCALENDAR
PRODID:-//eluceo/ical//2.0/EN
VERSION:2.0
CALSCALE:GREGORIAN
BEGIN:VEVENT
UID:34e9667ded40d0488ec037e0adfb080a
DTSTAMP:20260421T152803Z
SUMMARY:6pm JFFNF Yom HaShoah Event
DESCRIPTION:Jewish Federation & Foundation of Northeast Florida\nCommunity 
 Calendar\nhttps://jewishjacksonville.org/jewish-federation-of-jacksonville
 -calendar/jffnf-yom-hashoah-2025\n\nJFFNF Yom HaShoah Event\nApril 23 and
  April 24 - 6 pm - 8 pm 
DTSTART;TZID=America/New_York:20250424T180000
DTEND;TZID=America/New_York:20250424T200000
END:VEVENT
END:VCALENDAR
