BEGIN:VCALENDAR
PRODID:-//eluceo/ical//2.0/EN
VERSION:2.0
CALSCALE:GREGORIAN
BEGIN:VEVENT
UID:c605721f91706840d1f5998c302cb063
DTSTAMP:20260423T155416Z
SUMMARY:11am JFFNF WP Steering Committee Meeting
DESCRIPTION:Jewish Federation & Foundation of Northeast Florida\nCommunity 
 Calendar\nhttps://jewishjacksonville.org/jewish-federation-of-jacksonville
 -calendar/jffnf-wpsc-nov\n\nJewish Federation & Foundation of Northeast Fl
 orida\n\nWomen's Philanthropy Steering Committee Meeting\n\nThursday\, Nov
 ember 6th\, 11am
DTSTART;TZID=America/New_York:20251106T110000
DTEND;TZID=America/New_York:20251106T120000
END:VEVENT
END:VCALENDAR
