BEGIN:VCALENDAR
PRODID:-//eluceo/ical//2.0/EN
VERSION:2.0
CALSCALE:GREGORIAN
BEGIN:VEVENT
UID:f5d93b91a3ea811978ecba4adaf030b8
DTSTAMP:20260425T004508Z
SUMMARY:6 PM JFFNF October Board Meeting
DESCRIPTION:Jewish Federation & Foundation of Northeast Florida\nCommunity 
 Calendar\nhttps://jewishjacksonville.org/jewish-federation-of-jacksonville
 -calendar/jffnf-october-board-meeting\n\nJewish Federation & Foundation of
  Northeast Florida October Board Meeting\n\nLocation TBD
DTSTART;TZID=America/New_York:20251016T180000
DTEND;TZID=America/New_York:20251016T193000
END:VEVENT
END:VCALENDAR
