BEGIN:VCALENDAR
PRODID:-//eluceo/ical//2.0/EN
VERSION:2.0
CALSCALE:GREGORIAN
BEGIN:VEVENT
UID:57cf87da4e078b40d04367e7f83fe5ca
DTSTAMP:20260425T204434Z
SUMMARY:6 PM JFFNF March Board Meeting
DESCRIPTION:Jewish Federation & Foundation of Northeast Florida\nCommunity 
 Calendar\nhttps://jewishjacksonville.org/jewish-federation-of-jacksonville
 -calendar/jffnf-march-board-meeting\n\nJewish Federation & Foundation of N
 ortheast Florida March Board Meeting\n\nLocation TBD
DTSTART;TZID=America/New_York:20260319T180000
DTEND;TZID=America/New_York:20260319T193000
END:VEVENT
END:VCALENDAR
