BEGIN:VCALENDAR
PRODID:-//eluceo/ical//2.0/EN
VERSION:2.0
CALSCALE:GREGORIAN
BEGIN:VEVENT
UID:d56f935b26bc0d7cac0a6703fa041dad
DTSTAMP:20260421T111330Z
SUMMARY:6 PM JFFNF January Board Meeting
DESCRIPTION:Jewish Federation & Foundation of Northeast Florida\nCommunity 
 Calendar\nhttps://jewishjacksonville.org/jewish-federation-of-jacksonville
 -calendar/jffnf-january-board-meeting\n\nJewish Federation & Foundation of
  Northeast Florida January Board Meeting\n\nLocation TBD
DTSTART;TZID=America/New_York:20260108T180000
DTEND;TZID=America/New_York:20260108T193000
END:VEVENT
END:VCALENDAR
