BEGIN:VCALENDAR
PRODID:-//eluceo/ical//2.0/EN
VERSION:2.0
CALSCALE:GREGORIAN
BEGIN:VEVENT
UID:d737098bbc9c5f57c6c02f6c85cfe81a
DTSTAMP:20260420T205113Z
SUMMARY:6:30pm | JFCS | Women's Giving Circles
DESCRIPTION:Jewish Federation & Foundation of Northeast Florida\nCommunity 
 Calendar\nhttps://jewishjacksonville.org/jewish-federation-of-jacksonville
 -calendar/jfcs-womens-giving-circles\n\nWomen's Giving Circles\nThursday\,
  September 25 | 6:30 – 8:00pm
DTSTART;TZID=America/New_York:20250925T183000
DTEND;TZID=America/New_York:20250925T200000
END:VEVENT
END:VCALENDAR
