BEGIN:VCALENDAR
PRODID:-//eluceo/ical//2.0/EN
VERSION:2.0
CALSCALE:GREGORIAN
BEGIN:VEVENT
UID:34f0cc2b1330c80e66debfceaa659986
DTSTAMP:20260421T211633Z
SUMMARY:7PM JFCS Annual Women's Event
DESCRIPTION:Jewish Federation & Foundation of Northeast Florida\nCommunity 
 Calendar\nhttps://jewishjacksonville.org/jewish-federation-of-jacksonville
 -calendar/jfcs-womens-event\n\nJFCS Annual Women's Event\n\nDetails coming
  soon.
DTSTART;TZID=America/New_York:20151015T190000
DTEND;TZID=America/New_York:20151015T210000
END:VEVENT
END:VCALENDAR
