BEGIN:VCALENDAR
PRODID:-//eluceo/ical//2.0/EN
VERSION:2.0
CALSCALE:GREGORIAN
BEGIN:VEVENT
UID:4551ae544b69d9bc44762c34ea177532
DTSTAMP:20260425T172017Z
SUMMARY:JFCS Moving Day into new facility on Baycenter Rd.
DESCRIPTION:Jewish Federation & Foundation of Northeast Florida\nCommunity 
 Calendar\nhttps://jewishjacksonville.org/jewish-federation-of-jacksonville
 -calendar/jfcs-moving-day-into-new-facility-on-baycenter-rd\n\nNew locatio
 n: 8540 Baycenter Rd.
DTSTART;TZID=America/New_York:20170824T000000
DTEND;TZID=America/New_York:20170824T235500
END:VEVENT
END:VCALENDAR
