BEGIN:VCALENDAR
PRODID:-//eluceo/ical//2.0/EN
VERSION:2.0
CALSCALE:GREGORIAN
BEGIN:VEVENT
UID:3a73b4bfb7862646f03864a753adc29f
DTSTAMP:20260424T162302Z
SUMMARY:JFCS #GivingTuesday at The Well Watering Hole Bistro
DESCRIPTION:Jewish Federation & Foundation of Northeast Florida\nCommunity 
 Calendar\nhttps://jewishjacksonville.org/jewish-federation-of-jacksonville
 -calendar/jfcs-givingtuesday-at-the-well-watering-hole-bistro\n\nThe Well 
 Watering Hole Bistro gives back to the community by selecting a featured 
 charity of every month. JFCS is The Well's featured charity for the month 
 of June!!! \n\nCoins tossed into the wishing well inside the restaurant t
 hroughout the month of June will be donated to JFCS\, as well as 10% of sa
 les on June 20th!\n\nDine out and support JFCS on June 20th - let's pack t
 he house!\n\nThe Well Watering Hole Bistro is open for lunch from 11:00 AM
  - 2:00 PM\, closes for the transition from lu...
DTSTART;TZID=America/New_York:20170620T110000
DTEND;TZID=America/New_York:20170620T220000
END:VEVENT
END:VCALENDAR
