BEGIN:VCALENDAR
PRODID:-//eluceo/ical//2.0/EN
VERSION:2.0
CALSCALE:GREGORIAN
BEGIN:VEVENT
UID:b092398fb48d24fb9cfe6e6016e1bcba
DTSTAMP:20260424T111159Z
SUMMARY:10:30am  | JFCS Annual Event Committee Mtg
DESCRIPTION:Jewish Federation & Foundation of Northeast Florida\nCommunity 
 Calendar\nhttps://jewishjacksonville.org/jewish-federation-of-jacksonville
 -calendar/jfcs-annual-event-committee-mtg\n\n.
DTSTART;TZID=America/New_York:20260122T103000
DTEND;TZID=America/New_York:20260122T120000
END:VEVENT
END:VCALENDAR
