BEGIN:VCALENDAR
PRODID:-//eluceo/ical//2.0/EN
VERSION:2.0
CALSCALE:GREGORIAN
BEGIN:VEVENT
UID:b58dc33422b1f527e26c212f4ac54404
DTSTAMP:20260424T021212Z
SUMMARY:JFCS Annual Event Committee Meeting
DESCRIPTION:Jewish Federation & Foundation of Northeast Florida\nCommunity 
 Calendar\nhttps://jewishjacksonville.org/jewish-federation-of-jacksonville
 -calendar/jfcs-annual-event-committee-meeting\n\nDetails coming soon
DTSTART;TZID=America/New_York:20230829T110000
DTEND;TZID=America/New_York:20230829T140000
END:VEVENT
END:VCALENDAR
