BEGIN:VCALENDAR
PRODID:-//eluceo/ical//2.0/EN
VERSION:2.0
CALSCALE:GREGORIAN
BEGIN:VEVENT
UID:86f387bc7897fd685521c0a6c7d61569
DTSTAMP:20260425T120822Z
SUMMARY:10am JFFNF LEAD Jewish Storytelling
DESCRIPTION:Jewish Federation & Foundation of Northeast Florida\nCommunity 
 Calendar\nhttps://jewishjacksonville.org/jewish-federation-of-jacksonville
 -calendar/jewish-storytelling\n\nLEAD: Jewish Storytelling
DTSTART;TZID=America/New_York:20250211T100000
DTEND;TZID=America/New_York:20250211T120000
END:VEVENT
END:VCALENDAR
