BEGIN:VCALENDAR
PRODID:-//eluceo/ical//2.0/EN
VERSION:2.0
CALSCALE:GREGORIAN
BEGIN:VEVENT
UID:3285418b5c7e0c2ed3b5e2a703a1bdf4
DTSTAMP:20260422T161132Z
SUMMARY:10:30 AM Jewish Java: The Joys of Yiddish w Isabel Balotin & Suzi B
 ecker
DESCRIPTION:Jewish Federation & Foundation of Northeast Florida\nCommunity 
 Calendar\nhttps://jewishjacksonville.org/jewish-federation-of-jacksonville
 -calendar/jewish-java-the-joys-of-yiddish\n\nJewish Java: The Joys of Yidd
 ish Featuring Isabel Balotin & Suzi Becker\n\nShalom Jax in partnership wi
 th the JCA
DTSTART;TZID=America/New_York:20201007T103000
DTEND;TZID=America/New_York:20201007T120000
END:VEVENT
END:VCALENDAR
