BEGIN:VCALENDAR
PRODID:-//eluceo/ical//2.0/EN
VERSION:2.0
CALSCALE:GREGORIAN
BEGIN:VEVENT
UID:f976d7f9095fe3939dd2cb0b15f8cc41
DTSTAMP:20260420T215847Z
SUMMARY:Jewish Foundation Investment Cmte. Meeting
DESCRIPTION:Jewish Federation & Foundation of Northeast Florida\nCommunity 
 Calendar\nhttps://jewishjacksonville.org/jewish-federation-of-jacksonville
 -calendar/jewish-foundation-investment-cmte-meeting-feb-2015\n\nCOMMITTEE 
 MEETING\n\n \n\nJewish Community Foundation of NE FL\n\nInvestment Oversi
 ght Committee (IOC) Meeting
DTSTART;TZID=America/New_York:20150224T180000
DTEND;TZID=America/New_York:20150224T190000
END:VEVENT
END:VCALENDAR
