BEGIN:VCALENDAR
PRODID:-//eluceo/ical//2.0/EN
VERSION:2.0
CALSCALE:GREGORIAN
BEGIN:VEVENT
UID:304ede47835b549cfa449150c5c22d8f
DTSTAMP:20260421T194959Z
SUMMARY:6:30PM Jewish Foundation Board Meeting
DESCRIPTION:Jewish Federation & Foundation of Northeast Florida\nCommunity 
 Calendar\nhttps://jewishjacksonville.org/jewish-federation-of-jacksonville
 -calendar/jewish-foundation-board-meeting-sept-2014\n\nBOARD MEETING\n\n 
 \n\nJewish Community Foundation of NE FL
DTSTART;TZID=America/New_York:20140917T183000
DTEND;TZID=America/New_York:20140917T193000
END:VEVENT
END:VCALENDAR
