BEGIN:VCALENDAR
PRODID:-//eluceo/ical//2.0/EN
VERSION:2.0
CALSCALE:GREGORIAN
BEGIN:VEVENT
UID:d9372ce87d05012e5ee2a71a30ce350e
DTSTAMP:20260424T003641Z
SUMMARY:1:00 PM - JCA Youth Theatre Playhouse
DESCRIPTION:Jewish Federation & Foundation of Northeast Florida\nCommunity 
 Calendar\nhttps://jewishjacksonville.org/jewish-federation-of-jacksonville
 -calendar/jca-youth-theatre-playhouse-may17\n\nCHILDREN'S PROGRAM\n\nJCA Y
 outh Theatre Playhouse\, May 7 at 1:00 PM\n\nhttp://reg.jcajax.org/OnlineE
 dge/programlist.html
DTSTART;TZID=America/New_York:20170507T130000
DTEND;TZID=America/New_York:20170507T150000
END:VEVENT
END:VCALENDAR
