BEGIN:VCALENDAR
PRODID:-//eluceo/ical//2.0/EN
VERSION:2.0
CALSCALE:GREGORIAN
BEGIN:VEVENT
UID:de9ac0ae2ff00643f40d35c65a38edbe
DTSTAMP:20260419T153923Z
SUMMARY:JCA Youth Services J-Cation Day
DESCRIPTION:Jewish Federation & Foundation of Northeast Florida\nCommunity 
 Calendar\nhttps://jewishjacksonville.org/jewish-federation-of-jacksonville
 -calendar/jca-youth-services-j-cation-day-dec2317\n\nCHILDREN'S PROGRAM\n\
 nJCA Youth Services J-Cation Day\, Dec. 23\n\nhttps://jcajax.org/programs
DTSTART;TZID=America/New_York:20171223T000000
DTEND;TZID=America/New_York:20171223T000000
END:VEVENT
END:VCALENDAR
