BEGIN:VCALENDAR
PRODID:-//eluceo/ical//2.0/EN
VERSION:2.0
CALSCALE:GREGORIAN
BEGIN:VEVENT
UID:0b0ef8d934f422b47636d1668d1a8b91
DTSTAMP:20260425T004540Z
SUMMARY:JCA Youth Services J-Cation Day
DESCRIPTION:Jewish Federation & Foundation of Northeast Florida\nCommunity 
 Calendar\nhttps://jewishjacksonville.org/jewish-federation-of-jacksonville
 -calendar/jca-youth-services-j-cation-day-apr18\n\nCHILDREN'S PROGRAM\n\nJ
 CA Youth Services J-Cation Day\, April 2\, 2018\n\nhttps://jcajax.org/prog
 rams
DTSTART;TZID=America/New_York:20180402T000000
DTEND;TZID=America/New_York:20180402T000000
END:VEVENT
END:VCALENDAR
