BEGIN:VCALENDAR
PRODID:-//eluceo/ical//2.0/EN
VERSION:2.0
CALSCALE:GREGORIAN
BEGIN:VEVENT
UID:ec3f5e78abe66166f8f89520c983211b
DTSTAMP:20260425T171937Z
SUMMARY:4:30PM JCA Youth Basketball Practice Begins
DESCRIPTION:Jewish Federation & Foundation of Northeast Florida\nCommunity 
 Calendar\nhttps://jewishjacksonville.org/jewish-federation-of-jacksonville
 -calendar/jca-youth-basketball-practice-begins\n\nChildren's Program\n\nJC
 A Youth Basketball practice begins through Feb 25\n\nhttps://reg.jcajax.or
 g/OnlineEdge/programlist.html
DTSTART;TZID=America/New_York:20151130T163000
DTEND;TZID=America/New_York:20151130T173000
END:VEVENT
END:VCALENDAR
