BEGIN:VCALENDAR
PRODID:-//eluceo/ical//2.0/EN
VERSION:2.0
CALSCALE:GREGORIAN
BEGIN:VEVENT
UID:585e7b5fe8244ab83dc8c2f555955c7b
DTSTAMP:20260425T152030Z
SUMMARY:JCA Youth Basketball League
DESCRIPTION:Jewish Federation & Foundation of Northeast Florida\nCommunity 
 Calendar\nhttps://jewishjacksonville.org/jewish-federation-of-jacksonville
 -calendar/jca-youth-basketball-league-18\n\nCHILDREN'S PROGRAM\n\nJCA Yout
 h Basketball League\, details tbd\n\nhttps://jcajax.org/programs
DTSTART;TZID=America/New_York:20180107T000000
DTEND;TZID=America/New_York:20180107T000000
END:VEVENT
END:VCALENDAR
