BEGIN:VCALENDAR
PRODID:-//eluceo/ical//2.0/EN
VERSION:2.0
CALSCALE:GREGORIAN
BEGIN:VEVENT
UID:4dfa4a70f966b6931d0e879502f0c700
DTSTAMP:20260424T020421Z
SUMMARY:JCA Youth Basketball League
DESCRIPTION:Jewish Federation & Foundation of Northeast Florida\nCommunity 
 Calendar\nhttps://jewishjacksonville.org/jewish-federation-of-jacksonville
 -calendar/jca-youth-basketball-league\n\nJCA Youth Basketball.
DTSTART;TZID=America/New_York:20191110T120000
DTEND;TZID=America/New_York:20191110T180000
END:VEVENT
END:VCALENDAR
