BEGIN:VCALENDAR
PRODID:-//eluceo/ical//2.0/EN
VERSION:2.0
CALSCALE:GREGORIAN
BEGIN:VEVENT
UID:1c2d0e78db60f7d0dcb2cd343fdea6d4
DTSTAMP:20260423T091653Z
SUMMARY:JCA Theatre Show
DESCRIPTION:Jewish Federation & Foundation of Northeast Florida\nCommunity 
 Calendar\nhttps://jewishjacksonville.org/jewish-federation-of-jacksonville
 -calendar/jca-theatre-show\n\nJCA Theatre Show
DTSTART;TZID=America/New_York:20131123T000000
DTEND;TZID=America/New_York:20131123T235900
END:VEVENT
END:VCALENDAR
