BEGIN:VCALENDAR
PRODID:-//eluceo/ical//2.0/EN
VERSION:2.0
CALSCALE:GREGORIAN
BEGIN:VEVENT
UID:d3e03bffe493cce02042858893ceefd4
DTSTAMP:20260420T224355Z
SUMMARY:2PM JCA Theatre Playhouse
DESCRIPTION:Jewish Federation & Foundation of Northeast Florida\nCommunity 
 Calendar\nhttps://jewishjacksonville.org/jewish-federation-of-jacksonville
 -calendar/jca-theatre-playhouse\n\nCommunity Program\n\nJCA Theatre Playho
 use 2pm\n\n​https://reg.jcajax.org/OnlineEdge/programlist.html
DTSTART;TZID=America/New_York:20151122T000000
DTEND;TZID=America/New_York:20151122T000000
END:VEVENT
END:VCALENDAR
