BEGIN:VCALENDAR
PRODID:-//eluceo/ical//2.0/EN
VERSION:2.0
CALSCALE:GREGORIAN
BEGIN:VEVENT
UID:ea44c13adbc81d7ed5b4232b00c07c4d
DTSTAMP:20260420T220619Z
SUMMARY:7:30PM JCA Theatre PAC Show
DESCRIPTION:Jewish Federation & Foundation of Northeast Florida\nCommunity 
 Calendar\nhttps://jewishjacksonville.org/jewish-federation-of-jacksonville
 -calendar/jca-theatre-pac-show\n\nCommunity Program\n\nJCA theatre Pac Sho
 w 7:30pm\n\nhttps://reg.jcajax.org/OnlineEdge/programlist.html
DTSTART;TZID=America/New_York:20151205T193000
DTEND;TZID=America/New_York:20151205T220000
END:VEVENT
END:VCALENDAR
