BEGIN:VCALENDAR
PRODID:-//eluceo/ical//2.0/EN
VERSION:2.0
CALSCALE:GREGORIAN
BEGIN:VEVENT
UID:9bf3c86f7f2c7017ffd13c77b9139eff
DTSTAMP:20260422T005510Z
SUMMARY:JCA Theatre of Youth Show
DESCRIPTION:Jewish Federation & Foundation of Northeast Florida\nCommunity 
 Calendar\nhttps://jewishjacksonville.org/jewish-federation-of-jacksonville
 -calendar/jca-theatre-of-youth-show\n\nJCA Theatre of Youth Show
DTSTART;TZID=America/New_York:20140510T000000
DTEND;TZID=America/New_York:20140510T235900
END:VEVENT
END:VCALENDAR
