BEGIN:VCALENDAR
PRODID:-//eluceo/ical//2.0/EN
VERSION:2.0
CALSCALE:GREGORIAN
BEGIN:VEVENT
UID:347882d18adf173d7081508ae0e32b95
DTSTAMP:20260421T231103Z
SUMMARY:2: 00 PM - JCA Theatre Holocaust Play
DESCRIPTION:Jewish Federation & Foundation of Northeast Florida\nCommunity 
 Calendar\nhttps://jewishjacksonville.org/jewish-federation-of-jacksonville
 -calendar/jca-theatre-holocaust-play\n\nCOMMUNITY PROGRAM\n\nJCA Theatre H
 olocaust Play\, Apr 23 at 2:00 PM\n\nhttp://reg.jcajax.org/OnlineEdge/prog
 ramlist.html
DTSTART;TZID=America/New_York:20170423T140000
DTEND;TZID=America/New_York:20170423T153000
END:VEVENT
END:VCALENDAR
