BEGIN:VCALENDAR
PRODID:-//eluceo/ical//2.0/EN
VERSION:2.0
CALSCALE:GREGORIAN
BEGIN:VEVENT
UID:5416bb5936339e7adad58d0482299206
DTSTAMP:20260422T003740Z
SUMMARY:JCA Theatre Camp Show
DESCRIPTION:Jewish Federation & Foundation of Northeast Florida\nCommunity 
 Calendar\nhttps://jewishjacksonville.org/jewish-federation-of-jacksonville
 -calendar/jca-theatre-camp-show-aug16\n\nCOMMUNITY PROGRAM\n\nJCA Theatre 
 Camp show\, Aug 3 and 4 at 7:00 PM
DTSTART;TZID=America/New_York:20160803T190000
DTEND;TZID=America/New_York:20160803T210000
END:VEVENT
END:VCALENDAR
