BEGIN:VCALENDAR
PRODID:-//eluceo/ical//2.0/EN
VERSION:2.0
CALSCALE:GREGORIAN
BEGIN:VEVENT
UID:37910dd2a38ba235935ef74346c4088d
DTSTAMP:20260426T042420Z
SUMMARY:7:30PM JCA Theatre Cabaret
DESCRIPTION:Jewish Federation & Foundation of Northeast Florida\nCommunity 
 Calendar\nhttps://jewishjacksonville.org/jewish-federation-of-jacksonville
 -calendar/jca-theatre-cabaret3\n\nCommunity Program\n\nJCA Theatre Cabaret
  7:30pm\n\n​https://reg.jcajax.org/OnlineEdge/programlist.html
DTSTART;TZID=America/New_York:20160206T193000
DTEND;TZID=America/New_York:20160206T210000
END:VEVENT
END:VCALENDAR
