BEGIN:VCALENDAR
PRODID:-//eluceo/ical//2.0/EN
VERSION:2.0
CALSCALE:GREGORIAN
BEGIN:VEVENT
UID:e9608f63ef10d74f95a6db1d498b0a5d
DTSTAMP:20260425T183432Z
SUMMARY:8PM JCA TH-PAC Show
DESCRIPTION:Jewish Federation & Foundation of Northeast Florida\nCommunity 
 Calendar\nhttps://jewishjacksonville.org/jewish-federation-of-jacksonville
 -calendar/jca-th-pac-show-3-9-19\n\nVisit our site to learn more!
DTSTART;TZID=America/New_York:20190309T200000
DTEND;TZID=America/New_York:20190309T220000
END:VEVENT
END:VCALENDAR
