BEGIN:VCALENDAR
PRODID:-//eluceo/ical//2.0/EN
VERSION:2.0
CALSCALE:GREGORIAN
BEGIN:VEVENT
UID:6ad324c816212476b24a339140bd2320
DTSTAMP:20260420T084426Z
SUMMARY:1 PM - JCA Summer Youth Basketball
DESCRIPTION:Jewish Federation & Foundation of Northeast Florida\nCommunity 
 Calendar\nhttps://jewishjacksonville.org/jewish-federation-of-jacksonville
 -calendar/jca-summer-youth-basketball-17\n\nCHILDREN'S PROGRAM\n\nSummer Y
 outh Basketball\, 1:00 - 6:00 PM\n\nhttps://jcajax.org/programs
DTSTART;TZID=America/New_York:20170709T130000
DTEND;TZID=America/New_York:20170709T180000
END:VEVENT
END:VCALENDAR
