BEGIN:VCALENDAR
PRODID:-//eluceo/ical//2.0/EN
VERSION:2.0
CALSCALE:GREGORIAN
BEGIN:VEVENT
UID:db294bb2b67f0efdc833cf848ba57afc
DTSTAMP:20260422T003305Z
SUMMARY:JCA Summer Camp Session III
DESCRIPTION:Jewish Federation & Foundation of Northeast Florida\nCommunity 
 Calendar\nhttps://jewishjacksonville.org/jewish-federation-of-jacksonville
 -calendar/jca-summer-camp-session-iii\n\nChildren's Program: JCA Summer Se
 ssion III\n\nhttp://reg.jcajax.org/OnlineEdge/programlist.html
DTSTART;TZID=America/New_York:20150713T000000
DTEND;TZID=America/New_York:20150713T000000
END:VEVENT
END:VCALENDAR
