BEGIN:VCALENDAR
PRODID:-//eluceo/ical//2.0/EN
VERSION:2.0
CALSCALE:GREGORIAN
BEGIN:VEVENT
UID:039b01462b5663e4fa361c16ad256f29
DTSTAMP:20260424T202257Z
SUMMARY:JCA Summer Camp Session II
DESCRIPTION:Jewish Federation & Foundation of Northeast Florida\nCommunity 
 Calendar\nhttps://jewishjacksonville.org/jewish-federation-of-jacksonville
 -calendar/jca-summer-camp-session-ii\n\nJCA Summer Camp Session II
DTSTART;TZID=America/New_York:20140630T000000
DTEND;TZID=America/New_York:20140630T235900
END:VEVENT
END:VCALENDAR
