BEGIN:VCALENDAR
PRODID:-//eluceo/ical//2.0/EN
VERSION:2.0
CALSCALE:GREGORIAN
BEGIN:VEVENT
UID:5e15446f5d57b31acced16a948181550
DTSTAMP:20260424T093436Z
SUMMARY:JCA Summer Camp Session 4 begins
DESCRIPTION:Jewish Federation & Foundation of Northeast Florida\nCommunity 
 Calendar\nhttps://jewishjacksonville.org/jewish-federation-of-jacksonville
 -calendar/jca-summer-camp-session-4-begins\n\nJCA Summer Camp Session 4 be
 gins
DTSTART;TZID=America/New_York:20130729T000000
DTEND;TZID=America/New_York:20130729T235900
END:VEVENT
END:VCALENDAR
