BEGIN:VCALENDAR
PRODID:-//eluceo/ical//2.0/EN
VERSION:2.0
CALSCALE:GREGORIAN
BEGIN:VEVENT
UID:71520c0c8fe52f38faa0ed4096fbe074
DTSTAMP:20260426T000824Z
SUMMARY:JCA Summer Camp Ice Cream Social
DESCRIPTION:Jewish Federation & Foundation of Northeast Florida\nCommunity 
 Calendar\nhttps://jewishjacksonville.org/jewish-federation-of-jacksonville
 -calendar/jca-summer-camp-ice-cream-social\n\nCHILDREN'S PROGRAM\nJCA Summ
 er Camp Ice Cream Social\n\nhttp://reg.jcajax.org/OnlineEdge/programlist.h
 tml
DTSTART;TZID=America/New_York:20160605T150000
DTEND;TZID=America/New_York:20160605T170000
END:VEVENT
END:VCALENDAR
