BEGIN:VCALENDAR
PRODID:-//eluceo/ical//2.0/EN
VERSION:2.0
CALSCALE:GREGORIAN
BEGIN:VEVENT
UID:8def230ae76a3d2dfbc1c865a61580bd
DTSTAMP:20260422T144025Z
SUMMARY:JCA Sukkot Family Celebration
DESCRIPTION:Jewish Federation & Foundation of Northeast Florida\nCommunity 
 Calendar\nhttps://jewishjacksonville.org/jewish-federation-of-jacksonville
 -calendar/jca-sukkot-family-celebration\n\nJoin your JCA family as we cele
 brate the Sukkot holiday! On Monday\, October 13 we will carry on the trad
 ition of shaking the lulav and holding the etrog at the Sukkot Family Cel
 ebration. A festive family-style meal will be served and there will be cra
 fts\, including creating your own lulav out of newspaper and making an edi
 ble Sukkah! \n\nMonday\, October 13 at 5:45pm\n\n​click here to registe
 r online\n\n 
DTSTART;TZID=America/New_York:20141013T174500
DTEND;TZID=America/New_York:20141013T203000
END:VEVENT
END:VCALENDAR
