BEGIN:VCALENDAR
PRODID:-//eluceo/ical//2.0/EN
VERSION:2.0
CALSCALE:GREGORIAN
BEGIN:VEVENT
UID:1d6755079e6427798d6d616cf1d0f57b
DTSTAMP:20260424T145648Z
SUMMARY:JCA Stage Door Theatre Camp Show
DESCRIPTION:Jewish Federation & Foundation of Northeast Florida\nCommunity 
 Calendar\nhttps://jewishjacksonville.org/jewish-federation-of-jacksonville
 -calendar/jca-stage-door-theatre-camp-show-2\n\nJCA Theatre Camp presents 
 "Broadway Junior"!
DTSTART;TZID=America/New_York:20190731T190000
DTEND;TZID=America/New_York:20190731T210000
END:VEVENT
END:VCALENDAR
